BEGIN:VCALENDAR
VERSION:2.0
PRODID:-//Brüggerei//events//DE
BEGIN:VEVENT
SUMMARY:Brüggerei: Open Stage in der Brüggerei!
DTSTART;TZID=Europe/Zurich:20260513T200000
DTEND;TZID=Europe/Zurich:20260513T210000
DESCRIPTION:Beim Kneipenabend in der Brüggerei gehört die Bühne dir! Br
 ing dein Instrument mit – Mikrofon und Sound werden gestellt. Jeder Auft
 ritt dauert 15 Minuten. Anmeldung bis zum 10. Mai über Instagram oder per
  E-Mail.
LOCATION:Brüggerei\, Estebrügger Straße 82\, 21635 Jork
END:VEVENT
END:VCALENDAR
